Workbook

Sheet PO-NE
B3: Jídelní lístek na dobu od 1.9. do 7.9.2025
B5: Datum | C5: Polévka | D5: alergeny | E5: Oběd A | F5: alergeny | G5: Oběd B | H5: alergeny
B6: 1.9.2025 PONDĚLÍ | C6: ZELENINOVÁ S OVESNÝMI VLOČKAMI | D6: 1.3 | E6: 100g - HOVĚZÍ NA SLANINĚ, BRAMBOROVÝ KNEDLÍK S HOUSKOU | F6: 1,3,7 | G6: 300g- ZAPEČENÉ TĚSTOVINY SE ŠPENÁTEM A ŠUNKOU, ČALAMÁDA | H6: 1,3,7
B7: 2.9.2025 ÚTERÝ | C7: KUŘECÍ VÝVAR S DROBENÍM | D7: 1.3 | E7: 100g - HAMBURSKÁ VEPŘOVÁ KÝTA, HOUSKOVÝ KNEDLÍK | F7: 1,3,7,9 | G7: 360g- ŠPECLE SE SKOŘICÍ A CUKREM, KOMPOT | H7: 1,3,7
B8: 3.9.2025 STŘEDA | C8: HRACHOVÁ | D8: 1 | E8: 100g- SMAŽENÝ KUŘECÍ ŘÍZEK, BRAMBOROVÁ KAŠE, OKURKA | F8: 1,3,7 | G8: 120g - ZAPEČENÉ FILÉ SE ŠLEHAČKOU A SÝREM, BRAMBORY | H8: 3,4,7
B9: 4.9.2025 ČTVRTEK | C9: Z VAJEČNÉ JÍŠKY | D9: 1.3 | E9: 100g - NOVOHRADSKÝ VEPŘOVÝ PLÁTEK, TĚSTOVINY | F9: 1.3 | G9: 100g- KUSKUS S VEPŘOVÝM MASEM A ZELENINOU | H9: 1.3
B10: 5.9.2025 PÁTEK | C10: RAJSKÁ S RÝŽÍ | D10: 1 | E10: 100g - VEPŘOVÁ PEČENĚ, DUŠENÁ ZELENINA, BRAMBORY | F10: 1.7 | G10: 300g - KYNUTÝ TÁČ S OVOCEM | H10: 1,3,7
B11: 6.9.2025 SOBOTA | C11: KAPUSTOVÁ | D11: 1 | E11: 300g - FRANCOUZSKÉ BRAMBORY, OKURKA | F11: 3.7
B12: 7.9.2025 NEDĚLE | C12: VEPŘOVÝ VÝVAR S MASEM A KAPÁNÍM | D12: 1.3 | E12: 300g- KUŘECÍ PLÁTEK NA SMETANĚ SE ŽAMPIONY, TĚSTOVINY | F12: 1,3,7
B13: OBĚD JE URČEN K OKAMŽITÉ SPOTŘEBĚ | G13: váha masa je v syrovém stavu
B14: Změna vyhrazena
B15: Přejeme dobrou chuť.
B18: Jídelní lístek na dobu od 7.9. do 13.9.2026
B20: Datum | C20: Polévka | D20: alergeny | E20: Oběd A | F20: alergeny | G20: Oběd B | H20: alergeny
B21: 7.9.2026 PONDĚLÍ | C21: CELEROVÁ S MRKVÍ A KRUPICÍ | D21: 1.9 | E21: 100g- VÍDEŇSKÝ GULÁŠ, HOUSKOVÝ KNEDLÍK | F21: 1.3 | G21: 300g - TEPLÝ TĚSTOVINOVÝ SALÁT S KUŘECÍM MASEM | H21: 1,3,7
B22: 8.9.2026 ÚTERÝ | C22: VÝVAR SE ZELENINOU A RÝŽÍ | E22: 100g- VEPŘOVÝ PEČENĚ, HLÁVKOVÉ ČERVENÉ ZELÍ, BRAMBOROVÝ KNEDLÍK | F22: 1.3 | G22: 300g - JABLEČNÝ ZÁVIN | H22: 1,3,7
B23: 9.9.2026 STŘEDA | C23: HRSTKOVÁ | D23: 1 | E23: 100g- SMAŽENÝ KARBANÁTEK, BRAMBORY, ZELENINOVÝ SALÁT | F23: 1,3,7 | G23: 120g- TRESKA NA MÁSLE A KMÍNĚ, BRAMBORY, RAJČE | H23: 4.7
B24: 10.9.2026 ČTVRTEK | C24: VÝVAR S MASEM A TARHOŇOU | D24: 1.3 | E24: 100g- VEPŘOVÝ ZÁVITEK, RÝŽE | F24: 1 | G24: VEJCE, ČOČKA, OKURKA, CHLÉB | H24: 1.3
B25: 11.9.2026 PÁTEK | C25: CHLEBOVÁ | D25: 1,3,7 | E25: 100g- KUŘECÍ MASO V TĚSTÍČKU, BRAMBORY, OKURKA | F25: 1,3,7 | G25: 285g - RÝŽOVÝ NÁKYP S OVOCEM | H25: 3.7
B26: 12.9.2026 SOBOTA | C26: ZELNÁ S KLOBÁSOU | D26: 1.3 | E26: 300g - ZAPEČENÉ TĚSTOVINY S KRŮTÍM MASEM, OKURKA | F26: 1,3,7
B27: 13.9.2026 NEDĚLE | C27: HOVĚZÍ VÝVAR S TĚSTOVINOU | D27: 1.3 | E27: 100g - ZNOJEMSKÁ HOVĚZÍ PEČENĚ, HOUSKOVÝ KNEDLÍK | F27: 1.3
B28: OBĚD JE URČEN K OKAMŽITÉ SPOTŘEBĚ | G28: váha masa je v syrovém stavu
B29: Změna vyhrazena
B30: Přejeme dobrou chuť.
B33: Jídelní lístek na dobu od 14.9. do 20.9.2026
B35: Datum | C35: Polévka | D35: alergeny | E35: Oběd A | F35: alergeny | G35: Oběd B | H35: alergeny
B36: 14.9.2026 PONDĚLÍ | C36: KRUPICOVÁ | D36: 1,3,9 | E36: 200g - PEČENÉ KUŘE NA SLANINĚ A ČESNEKU, TĚSTOVINY | F36: 1,3,7 | G36: 250g - BRAMBOROVÉ NOKY S HOUBOVOU OMÁČKOU, SYPANÉ SÝREM | H36: 1,3,7
B37: 15.9.2026 ÚTERÝ | C37: VEPŘOVÝ VÝVAR S NUDLEMI | D37: 1.3 | E37: 100g- SEGEDÍNSKÝ GULÁŠ, HOUSKOVÝ KNEDLÍK | F37: 1,3,7 | G37: 300g - RÝŽOVÁ KAŠE SYPANÁ SKOŘICÍ, KOMPOT | H37: 7
B38: 16.9.2026 STŘEDA | C38: CIZRNOVÁ S OPRAŽ. HOUSKOU | D38: 1,3,7 | E38: 100g - SÁZAVSKÝ KUŘECÍ MLS, BRAMBORY, RAJČE | F38: 1,3,7 | G38: 360g - LASAGNE S HOVĚZÍM MASEM | H38: 1,3,7
B39: 17.9.2026 ČTVRTEK | C39: BRAMBOROVÁ | D39: 1,7,9 | E39: 100g - VEPŘOVÝ VRABEC, ŠPENÁT, BRAMBOROVÝ KNEDLÍK | F39: 1,3,7 | G39: 450g - KVĚTÁKOVÁ TARHOŇA (tarhoňa, květák, žampiony, slanina, paprika, pórek) | H39: 1.3
B40: 18.9.2026 PÁTEK | C40: RAGÚ | D40: 1 | E40: 100g - SRBSKÉ ŽEBÍRKO, RÝŽE | F40: 1 | G40: 300g - KRUPICOVÝ NÁKYP S TVAROHEM, MANDARINKOVÝ KOMPOT | H40: 1,3,7
B41: 19.9.2026 SOBOTA | C41: ČESNEČKA | D41: 3 | E41: 100g- PEČENÁ KRKOVICE, ŠŤOUCHANÉ BRAMBORY, OKURKA | F41: 7
B42: 20.9.2026 NEDĚLE | C42: VEPŘOVÝ VÝVAR S KUSKUSEM | D42: 1.3 | E42: 100g - ČUFTY, RAJSKÁ OMÁČKA, TĚSTOVINY | F42: 1.3
B43: OBĚD JE URČEN K OKAMŽITÉ SPOTŘEBĚ | G43: váha masa je v syrovém stavu
B44: Změna vyhrazena
B45: Přejeme dobrou chuť.
B49: Jídelní lístek na dobu od 21.9. do 27.9. 2026
B51: Datum | C51: Polévka | D51: alergeny | E51: Oběd A | F51: alergeny | G51: Oběd B | H51: alergeny
B52: 21.9.2026 PONDĚLÍ | C52: VÝVAR S VAJEČNOU JÍŠKOU | D52: 1.3 | E52: 100g - VEPŘOVÁ PLEC NA KMÍNU, HOUSKOVÝ KNEDLÍK | F52: 1.3 | G52: 350g- BRAMBOROVÉ KNEDLÍKY S OVOCEM SYPANÉ TVAROHEM | H52: 1,3,7
B53: 22.9.2026 ÚTERÝ | C53: DRŮBKOVÁ | D53: 1.3 | E53: 100g- KUŘECÍ SMĚS SE ZELENINOU, RÝŽE | F53: 1.9 | G53: 250g- ŠUNKOVÁ PIZZA | H53: 1,3,7
...

Sheet PO-PÁ
A2: ='PO-NE'!B3 -> Jídelní lístek na dobu od 1.9. do 7.9.2025
A3: Datum | B3: ='PO-NE'!C5 -> Polévka | C3: ='PO-NE'!D5 -> alergeny | D3: Oběd A | E3: ='PO-NE'!F5 -> alergeny | F3: Oběd B | G3: ='PO-NE'!H5 -> alergeny | H3: svačina 1. | I3: svačina 2.
A4: ='PO-NE'!B6 -> 1.9.2025 PONDĚLÍ | B4: ='PO-NE'!C6 -> ZELENINOVÁ S OVESNÝMI VLOČKAMI | C4: ='PO-NE'!D6 -> 1.3 | D4: ='PO-NE'!E6 -> 100g - HOVĚZÍ NA SLANINĚ, BRAMBOROVÝ KNEDLÍK S HOUSKOU | E4: ='PO-NE'!F6 -> 1,3,7 | F4: ='PO-NE'!G6 -> 300g- ZAPEČENÉ TĚSTOVINY SE ŠPENÁTEM A ŠUNKOU, ČALAMÁDA | G4: ='PO-NE'!H6 -> 1,3,7 | H4: paštika, rohlík, zelenina alergen 1,3,7 | I4: kompot
A5: ='PO-NE'!B7 -> 2.9.2025 ÚTERÝ | B5: ='PO-NE'!C7 -> KUŘECÍ VÝVAR S DROBENÍM | C5: ='PO-NE'!D7 -> 1.3 | D5: ='PO-NE'!E7 -> 100g - HAMBURSKÁ VEPŘOVÁ KÝTA, HOUSKOVÝ KNEDLÍK | E5: ='PO-NE'!F7 -> 1,3,7,9 | F5: ='PO-NE'!G7 -> 360g- ŠPECLE SE SKOŘICÍ A CUKREM, KOMPOT | G5: ='PO-NE'!H7 -> 1,3,7 | H5: celerová pomazánka, houska alergen 1,3,7,9 | I5: jogurt
A6: ='PO-NE'!B8 -> 3.9.2025 STŘEDA | B6: ='PO-NE'!C8 -> HRACHOVÁ | C6: ='PO-NE'!D8 -> 1 | D6: ='PO-NE'!E8 -> 100g- SMAŽENÝ KUŘECÍ ŘÍZEK, BRAMBOROVÁ KAŠE, OKURKA | E6: ='PO-NE'!F8 -> 1,3,7 | F6: ='PO-NE'!G8 -> 120g - ZAPEČENÉ FILÉ SE ŠLEHAČKOU A SÝREM, BRAMBORY | G6: ='PO-NE'!H8 -> 3,4,7 | H6: tavený sýr, chléb, zelenina alergen 1,3,7 | I6: ovocný salát
A7: ='PO-NE'!B9 -> 4.9.2025 ČTVRTEK | B7: ='PO-NE'!C9 -> Z VAJEČNÉ JÍŠKY | C7: ='PO-NE'!D9 -> 1.3 | D7: ='PO-NE'!E9 -> 100g - NOVOHRADSKÝ VEPŘOVÝ PLÁTEK, TĚSTOVINY | E7: ='PO-NE'!F9 -> 1.3 | F7: ='PO-NE'!G9 -> 100g- KUSKUS S VEPŘOVÝM MASEM A ZELENINOU | G7: ='PO-NE'!H9 -> 1.3 | H7: máslo, džem, chléb, alergen 1,3,7 | I7: tvarohový dezert alergen 1,3,7
A8: ='PO-NE'!B10 -> 5.9.2025 PÁTEK | B8: ='PO-NE'!C10 -> RAJSKÁ S RÝŽÍ | C8: ='PO-NE'!D10 -> 1 | D8: ='PO-NE'!E10 -> 100g - VEPŘOVÁ PEČENĚ, DUŠENÁ ZELENINA, BRAMBORY | E8: ='PO-NE'!F10 -> 1.7 | F8: ='PO-NE'!G10 -> 300g - KYNUTÝ TÁČ S OVOCEM | G8: ='PO-NE'!H10 -> 1,3,7 | H8: jogurt, rohlík, alergen 1,3,7 | I8: toustový chléb se šunkou alergen 1,3,7
A9: OBĚD JE URČEN K OKAMŽITÉ SPOTŘEBĚ | F9: váha masa je v syrovém stavu
A10: Změna vyhrazena
A11: Přejeme dobrou chuť.
A14: ='PO-NE'!B18 -> Jídelní lístek na dobu od 7.9. do 13.9.2026
A16: Datum | B16: Polévka | C16: ='PO-NE'!D20 -> alergeny | D16: Oběd A | E16: ='PO-NE'!F20 -> alergeny | F16: Oběd B | G16: ='PO-NE'!H20 -> alergeny | H16: svačina 1. | I16: svačina 2.
A17: ='PO-NE'!B21 -> 7.9.2026 PONDĚLÍ | B17: ='PO-NE'!C21 -> CELEROVÁ S MRKVÍ A KRUPICÍ | C17: ='PO-NE'!D21 -> 1.9 | D17: ='PO-NE'!E21 -> 100g- VÍDEŇSKÝ GULÁŠ, HOUSKOVÝ KNEDLÍK | E17: ='PO-NE'!F21 -> 1.3 | G17: ='PO-NE'!H21 -> 1,3,7 | H17: šunka,máslo, chléb, rajče alergen 1,3,7 | I17: palačinka alergen 1,3,7
A18: ='PO-NE'!B22 -> 8.9.2026 ÚTERÝ | B18: ='PO-NE'!C22 -> VÝVAR SE ZELENINOU A RÝŽÍ | C18: ='PO-NE'!D22 -> 0 | D18: ='PO-NE'!E22 -> 100g- VEPŘOVÝ PEČENĚ, HLÁVKOVÉ ČERVENÉ ZELÍ, BRAMBOROVÝ KNEDLÍK | E18: ='PO-NE'!F22 -> 1.3 | G18: ='PO-NE'!H22 -> 1,3,7 | H18: paštika, zelenina, houska alergen 1,3,7 | I18: jogurt
A19: ='PO-NE'!B23 -> 9.9.2026 STŘEDA | B19: ='PO-NE'!C23 -> HRSTKOVÁ | C19: ='PO-NE'!D23 -> 1 | D19: ='PO-NE'!E23 -> 100g- SMAŽENÝ KARBANÁTEK, BRAMBORY, ZELENINOVÝ SALÁT | E19: ='PO-NE'!F23 -> 1,3,7 | G19: ='PO-NE'!H23 -> 4.7 | H19: plátkový sýr, máslo, chléb alergen 1,3,7 | I19: buchta alergen 1,3,7
A20: ='PO-NE'!B24 -> 10.9.2026 ČTVRTEK | B20: ='PO-NE'!C24 -> VÝVAR S MASEM A TARHOŇOU | C20: ='PO-NE'!D24 -> 1.3 | E20: ='PO-NE'!F24 -> 1 | F20: ='PO-NE'!G24 -> VEJCE, ČOČKA, OKURKA, CHLÉB | G20: ='PO-NE'!H24 -> 1.3 | H20: pomazánkové máslo,okurka, rohlík alergen 1,3,7 | I20: perník alergen 1,3,7
A21: ='PO-NE'!B25 -> 11.9.2026 PÁTEK | B21: ='PO-NE'!C25 -> CHLEBOVÁ | C21: ='PO-NE'!D25 -> 1,3,7 | E21: ='PO-NE'!F25 -> 1,3,7 | F21: ='PO-NE'!G25 -> 285g - RÝŽOVÝ NÁKYP S OVOCEM | G21: ='PO-NE'!H25 -> 3.7 | H21: šunková pomazánka, rohlík alergen 1,3,7 | I21: kefír alergen 7
A22: OBĚD JE URČEN K OKAMŽITÉ SPOTŘEBĚ | F22: váha masa je v syrovém stavu
A23: Změna vyhrazena
A24: Přejeme dobrou chuť.
A26: ='PO-NE'!B33 -> Jídelní lístek na dobu od 14.9. do 20.9.2026
A28: Datum | B28: Polévka | C28: alergeny | D28: Oběd A | E28: alergeny | F28: Oběd B | G28: alergeny | H28: svačina 1. | I28: svačina 2.
A29: ='PO-NE'!B36 -> 14.9.2026 PONDĚLÍ | B29: ='PO-NE'!C36 -> KRUPICOVÁ | C29: ='PO-NE'!D36 -> 1,3,9 | D29: ='PO-NE'!E36 -> 200g - PEČENÉ KUŘE NA SLANINĚ A ČESNEKU, TĚSTOVINY | E29: ='PO-NE'!F36 -> 1,3,7 | G29: ='PO-NE'!H36 -> 1,3,7 | H29: sýr žervé, chléb, zelenina alergen 1,3,7 | I29: moučník alergen 1,3,7
A30: ='PO-NE'!B37 -> 15.9.2026 ÚTERÝ | B30: ='PO-NE'!C37 -> VEPŘOVÝ VÝVAR S NUDLEMI | C30: ='PO-NE'!D37 -> 1.3 | E30: ='PO-NE'!F37 -> 1,3,7 | F30: ='PO-NE'!G37 -> 300g - RÝŽOVÁ KAŠE SYPANÁ SKOŘICÍ, KOMPOT | G30: ='PO-NE'!H37 -> 7 | H30: jogurt, rohlík alergen 1,3,7 | I30: oblož. chlebíček alergen 1,3,7
A31: ='PO-NE'!B38 -> 16.9.2026 STŘEDA | B31: ='PO-NE'!C38 -> CIZRNOVÁ S OPRAŽ. HOUSKOU | C31: ='PO-NE'!D38 -> 1,3,7 | D31: ='PO-NE'!E38 -> 100g - SÁZAVSKÝ KUŘECÍ MLS, BRAMBORY, RAJČE | E31: ='PO-NE'!F38 -> 1,3,7 | G31: ='PO-NE'!H38 -> 1,3,7 | H31: koláče alergen 1,3,7 | I31: kefírové mléko alergen 7
A32: ='PO-NE'!B39 -> 17.9.2026 ČTVRTEK | B32: ='PO-NE'!C39 -> BRAMBOROVÁ | C32: ='PO-NE'!D39 -> 1,7,9 | D32: ='PO-NE'!E39 -> 100g - VEPŘOVÝ VRABEC, ŠPENÁT, BRAMBOROVÝ KNEDLÍK | E32: ='PO-NE'!F39 -> 1,3,7 | G32: ='PO-NE'!H39 -> 1.3 | H32: tvarohová pomazánka, rohlík alergen 1,3,7 | I32: přesnídávka
A33: ='PO-NE'!B40 -> 18.9.2026 PÁTEK | B33: ='PO-NE'!C40 -> RAGÚ | C33: ='PO-NE'!D40 -> 1 | D33: ='PO-NE'!E40 -> 100g - SRBSKÉ ŽEBÍRKO, RÝŽE | E33: ='PO-NE'!F40 -> 1 | G33: ='PO-NE'!H40 -> 1,3,7 | H33: šunka, máslo, chléb alergen 1,3,7 | I33: ovoce
A34: 19.9.2026 SOBOTA | B34: ČESNEČKA | C34: 3 | D34: 100g- PEČENÁ KRKOVICE, ŠŤOUCHANÉ BRAMBORY, OKURKA | E34: 7 | F34: PÁTEK - VEČEŘE - rybičková pomazánka, pečivo SOBOTA - VEČEŘE - párky, hořčice, pečivo alergen 1,3,4,7,10 | H34: snídaně-sýr, rajče, pečivo, alergen 1,3,7 | I34: svačina - jogurt alergen 7
A35: 20.9.2026 NEDĚLE | B35: VEPŘOVÝ VÝVAR S KUSKUSEM | C35: 1.3 | D35: 100g - ČUFTY, RAJSKÁ OMÁČKA, TĚSTOVINY | E35: 1.3 | H35: snídaně - koláč alergen 1,3,7 | I35: kompot
A36: OBĚD JE URČEN K OKAMŽITÉ SPOTŘEBĚ | F36: váha masa je v syrovém stavu
A37: Změna vyhrazena
A38: Přejeme dobrou chuť.
A40: ='PO-NE'!B49 -> Jídelní lístek na dobu od 21.9. do 27.9. 2026
A42: Datum | B42: Polévka | C42: alergeny | D42: Oběd A | E42: alergeny | F42: Oběd B | G42: alergeny | H42: svačina 1. | I42: svačina 2.
A43: ='PO-NE'!B52 -> 21.9.2026 PONDĚLÍ | B43: ='PO-NE'!C52 -> VÝVAR S VAJEČNOU JÍŠKOU | C43: ='PO-NE'!D52 -> 1.3 | E43: ='PO-NE'!F52 -> 1.3 | F43: ='PO-NE'!G52 -> 350g- BRAMBOROVÉ KNEDLÍKY S OVOCEM SYPANÉ TVAROHEM | G43: ='PO-NE'!H52 -> 1,3,7 | H43: sýr duko, zelenina, houska alergen 1,3,7 | I43: ovoce
A44: ='PO-NE'!B53 -> 22.9.2026 ÚTERÝ | B44: ='PO-NE'!C53 -> DRŮBKOVÁ | C44: ='PO-NE'!D53 -> 1.3 | E44: ='PO-NE'!F53 -> 1.9 | F44: ='PO-NE'!G53 -> 250g- ŠUNKOVÁ PIZZA | G44: ='PO-NE'!H53 -> 1,3,7 | H44: džem, máslo, chléb alergen 1,3,7 | I44: bublanina alergen 1,3,7
A45: ='PO-NE'!B54 -> 23.9.2026 STŘEDA | B45: ='PO-NE'!C54 -> BROKOLICOVÁ | C45: ='PO-NE'!D54 -> 1.7 | E45: ='PO-NE'!F54 -> 1,3,7 | F45: ='PO-NE'!G54 -> 120g - FILÉ PO NOVOHRADSKU, BRAMBOROVÁ KAŠE | G45: ='PO-NE'!H54 -> 1,4,7 | H45: lučina, rohlík, rajče alergen 1,3,7 | I45: přesnídávka
A46: ='PO-NE'!B55 -> 24.9.2026 ČTVRTEK | B46: ='PO-NE'!C55 -> KUŘECÍ S TĚSTOVINOU | C46: ='PO-NE'!D55 -> 1.3 | D46: ='PO-NE'!E55 -> 100g- SVÍČKOVÁ NA SMETANĚ, HOUSKOVÝ KNEDLÍK | E46: ='PO-NE'!F55 -> 1,3,7,9 | G46: ='PO-NE'!H55 -> 1.3 | H46: budapešťská pomazánka, chléb alergen 1,3,7 | I46: moučník alergen 1,3,7
A47: ='PO-NE'!B56 -> 25.9.2026 PÁTEK | B47: ='PO-NE'!C56 -> GULÁŠOVÁ | C47: ='PO-NE'!D56 -> 1 | D47: ='PO-NE'!E56 -> 100g - KUŘECÍ ZÁVITEK S NIVOU, OPEČENÉ BRAMBORY | E47: ='PO-NE'!F56 -> 1.7 | G47: 1,3,7 | H47: paštika, zelenina, chléb alergen 1,3,7 | I47: ovoce
A48: OBĚD JE URČEN K OKAMŽITÉ SPOTŘEBĚ | F48: váha masa je v syrovém stavu
...
