Workbook

Sheet PO-NE
B2: Jídelní lístek na dobu od 1.5. do 7.5.2023
B3: Datum | C3: Polévka | D3: obsahuje alergeny | E3: Oběd A | F3: obsahuje alergeny | G3: Oběd B | H3: obsahuje alergeny
B4: 1.5.2023 PONDĚLÍ svátek | C4: FAZOLOVÁ | D4: 1 | E4: 200g - PEČENÉ KUŘE, RÝŽE | F4: 1.7
B5: 2.5.2023 ÚTERÝ | C5: VÝVAR SE ZELENINOU A NUDLEMI | D5: 1.3 | E5: 100g -VEPŘOVÁ PEČENĚ, KAPUSTA, BRAMBOROVÝ KNEDLÍK | F5: 1.3 | G5: 100g - VEPŘOVÉ NUDLIČKY NA ZELENINĚ, BULGUR | H5: 1
B6: 3.5.2023 STŘEDA | C6: VÝVAR S DROŽĎOVÝMI KNEDLÍČKY | D6: 1,3,7 | E6: 100g - PŘÍRODNÍ KARBANÁTEK, ŠŤOUCHANÉ BRAMBORY, ZELENINOVÝ SALÁT | F6: 1 | G6: 300g - TEPLÝ TĚSTOVINOVÝ SALÁT S KUŘECÍM MASEM | H6: 1,3,7
B7: 4.5.2023 ČTVRTEK | C7: KMÍNOVÁ | D7: 1.3 | E7: 100g- KÝTA NA SMETANĚ, HOUSKOVÝ KNEDLÍK | F7: 1,3,7,9 | G7: 300g - LASAGNE S MLETÝM MASEM | H7: 1,3,7
B8: 5.5.2023 PÁTEK | C8: ZELNÁ S PÁRKEM | D8: 1.7 | E8: 300g-KUŘECÍ MASO V TĚSTÍČKU, BRAMBOROVÁ KAŠE, ZELENINA | F8: 1,3,7 | G8: 360g- RÝŽOVÁ KAŠE SYPANÁ KAKAEM, KOMPOT | H8: 7
B9: 6.5.2023 SOBOTA | C9: ZELENINOVÁ | D9: 1 | E9: 100g- VEPŘOVÁ PEČENĚ, DUŠENÁ MRKEV, BRAMBORY | F9: 1.7
B10: 7.5.2023 NEDĚLE | C10: VÝVAR S NOKY | D10: 1.3 | E10: 100g - VEPŘOVÝ GULÁŠ, HOUSKOVÝ KNEDLÍK | F10: 1.3
B11: OBĚD JE URČEN K OKAMŽITÉ SPOTŘEBĚ | G11: váha masa je v syrovém stavu
B12: Změna vyhrazena
B13: Přejeme dobrou chuť.
B16: Jídelní lístek na dobu od 4.5. do 10.5. 2026
B18: Datum | C18: Polévka | D18: obsahuje alergeny | E18: Oběd A | F18: obsahuje alergeny | G18: Oběd B | H18: obsahuje alergeny
B19: 4.5.2026 PONDĚLÍ | C19: HOVĚZÍ S TĚSTOVINOU | D19: 1.3 | E19: HOVĚZÍ VAŘENÉ, RAJSKÁ OMÁČKA, HOUSKOVÝ KNEDLÍK | F19: 1,3,7 | G19: 100g- ZELENINOVÝ KUSKUS S GYROS KOSTKAMI Z VEPŘOVÉHO MASA | H19: 1.9
B20: 5.5.2026 ÚTERÝ | C20: ZELENINOVÁ | D20: 1,7,9 | E20: 100g- ŠTĚPÁNSKÁ HOVĚZÍ PEČENĚ, RÝŽE | F20: 1.3 | G20: 300g- BRAMBOROVÉ ŠIŠKY S OSMAŽENOU STROUHANKOU, KOMPOT | H20: 1,3,7
B21: 6.5.2026 STŘEDA | C21: GULÁŠOVÁ | D21: 1 | E21: 100g- SMAŽENÝ KUŘECÍ ŘÍZEK, ŠŤOUCHANÉ BRAMBORY, ZELENINOVÝ SALÁT | F21: 1,3,7 | G21: 120g - TRESKA NA MÁSLE, BRAMBOROVÁ KAŠE, ZELENINA | H21: 4.7
B22: 7.5.2026 ČTVRTEK | C22: KMÍNOVÁ | D22: 1.3 | E22: 300g- KYNUTÉ KNEDLÍKY S POVIDLÍM SYPANÉ TVAROHEM | F22: 1,3,7 | G22: 100g - ZBOJNICKÁ PEČÍNKA (vepř. kýta, játra, klobása, slanina), RÝŽE | H22: 1
B23: 8.5.2026 PÁTEK SVÁTEK | C23: ŠPENÁTOVÁ | D23: 1,3,7 | E23: 280g- ŠUNKOFLEKY, ČALAMÁDA | F23: 1,3,7
B24: 9.5.2026 SOBOTA | C24: ČOČKOVÁ | D24: 1 | E24: 100g - DRŮBEŽÍ SEKANÁ, BRAMBORY S PAŽITKOU, OKURKA | F24: 1,3,7
B25: 10.5.2026 NEDĚLE | C25: KUŘECÍ VÝVAR S NUDLEMI | D25: 1.3 | E25: 100g - VEPŘOVÁ PLEC NA HOUBÁCH, TĚSTOVINY | F25: 1,3,7
B26: OBĚD JE URČEN K OKAMŽITÉ SPOTŘEBĚ | G26: váha masa je v syrovém stavu
B27: Změna vyhrazena
B28: Přejeme dobrou chuť.
B31: Jídelní lístek na dobu od 11.5. do 17.5.2026
B33: Datum | C33: Polévka | D33: obsahuje alergeny | E33: Oběd A | F33: obsahuje alergeny | G33: Oběd B | H33: obsahuje alergeny
B34: 11.5.2026 PONDĚLÍ | C34: VEPŘOVÝ VÝVAR S KAPÁNÍM | D34: 1,3,9 | E34: 100g- VEPŘOVÁ DEBRECÍNSKÁ PEČENĚ, HOUSKOVÝ KNEDLÍK | F34: 1,3,7 | G34: 270 g - RIZOTO S KUŘECÍM MASEM SYPANÉ SÝREM, ZELENINOVÝ SALÁT | H34: 7
B35: 12.5.2026 ÚTERÝ | C35: BRAMBORAČKA | D35: 1.9 | E35: 250g- BRAMBOROVÉ KNEDLÍKY PLNĚNÉ UZENÝM MASEM, DUŠENÉ ZELÍ | F35: 1,3,7 | G35: 300g - JÁHLOVÁ KAŠE S JAHODAMI, SYPANÁ PERNÍKEM | H35: 1,3,7
B36: 13.5.2026 STŘEDA | C36: KNEDLÍČKOVÁ | D36: 1,3,9 | E36: 100g - VEPŘOVÁ KOTLETA PEČENÁ VE ŠLEHAČCE, BRAMBORY S PAŽITKOU | F36: 7 | G36: 300g- LASAGNE SE ŠPENÁTEM | H36: 1,3,7
B37: 14.5.2026 ČTVRTEK | C37: RAGÚ | D37: 1.9 | E37: 100g -ŠPANĚLSKÝ PTÁČEK, RÝŽE | F37: 1.3 | G37: 200g-SMAŽENÝ KVĚTÁK, BRAMBORY, TATARSKÁ OMÁČKA | H37: 1,3,7,9
B38: 15.5.2026 PÁTEK | C38: HOVĚZÍ S DROBENÍM | D38: 1,3,9 | E38: 100g- SEGEDÍNSKÝ GULÁŠ, HOUSKOVÝ KNEDLÍK | F38: 1,3,7 | G38: 300g - BRAMBOROVÉ TAŠTIČKY S POVIDLÍM SYPANÉ STROUHANKOU | H38: 1,3,7
B39: 16.5.2026 SOBOTA | C39: VEPŘOVÝ VÝVAR S NUDLEMI | D39: 1,3,9 | E39: 100g - PŠTROSÍ VEJCE, BRAMBORY, OKURKA | F39: 1.3
B40: 17.5.2026 NEDĚLE | C40: KVĚTÁKOVÁ | D40: 1.7 | E40: 100g- SRBSKÉ ŽEBÍRKO, RÝŽE | F40: 1
B41: OBĚD JE URČEN K OKAMŽITÉ SPOTŘEBĚ | G41: váha masa je v syrovém stavu
B42: Změna vyhrazena
B43: Přejeme dobrou chuť.
E46: Jídelní lístek na dobu od 18.5. do 24.5. 2026
B48: Datum | C48: Polévka | D48: obsahuje alergeny | E48: Oběd A | F48: obsahuje alergeny | G48: Oběd B | H48: obsahuje alergeny
B49: 18.5.2026 PONDĚLÍ | C49: UZENÁ S RÝŽÍ A ZELENINOU | E49: 100g- UZENÉ MASO, KŘENOVÁ OMÁČKA, HOUSKOVÝ KNEDLÍK | F49: 1,3,7 | G49: 270 g - ZAPEČENÉ TĚSTOVINY S VEPŘOVÝM MASEM A ZELENINOU, OKURKA | H49: 1,3,7
B50: 19.5.2026 ÚTERÝ | C50: HRSTKOVÁ | D50: 1 | E50: 100g- NOVOHRADSKÝ VEPŘOVÝ PLÁTEK, BRAMBORY | F50: 1 | G50: 340g- DUKÁTOVÉ BUCHTIČKY S KRÉMEM | H50: 1,3,7
B51: 20.5.2026 STŘEDA | C51: PÓRKOVÁ | D51: 1.3 | E51: 100g - KUŘECÍ ŠPÍZ, ŠŤOUCHANÉ BRAMBORY | F51: 1,3,7 | G51: 250g - HOUBOVÉ RAGÚ, TĚSTOVINY | H51: 1,3,7
B52: 21.5.2026 ČTVRTEK | C52: KUŘECÍ VÝVAR SE ZELENINOU A NUDLEMI | D52: 1.3 | E52: 100g- OPEČENÝ GOTHAJ, HRACHOVÁ KAŠE S CIBULKOU, OKURKA, CHLÉB | F52: 1 | G52: 100g- VEPŘOVÁ PANENKA S OMÁČKOU S JARNÍMI CIBULKAMI, RÝŽE | H52: 1
B53: 22.5.2026 PÁTEK | C53: CHLEBOVÁ | D53: 1,3,9 | E53: 100g- HAMBURSKÁ VEPŘOVÁ KÝTA, HOUSKOVÝ KNEDLÍK | F53: 1,3,7,9 | G53: 285g - RÝŽOVÝ NÁKYP S OVOCEM | H53: 1,3,7
B54: 23.5.2026 SOBOTA | C54: VÝVAR S DRŮBEŽÍMI JÁTRY A TARHOŇOU | D54: 1,3,9 | E54: 100g - BOLOŇSKÉ TĚSTOVINY SYPANÉ SÝREM | F54: 1,3,7
B55: 24.5.2026 NEDĚLE | C55: FRANKFURTSKÁ | D55: 1.7 | E55: 100g-SEKANÁ, BRAMBORY, OKURKA | F55: 1,3,7
B56: OBĚD JE URČEN K OKAMŽITÉ SPOTŘEBĚ | G56: váha masa je v syrovém stavu
B57: Změna vyhrazena
B58: Přejeme dobrou chuť.
B62: Jídelní lístek na dobu od 25.5. do 31.5.2026
B64: Datum | C64: Polévka | D64: alergeny | E64: Oběd A | F64: alergeny | G64: Oběd B | H64: alergeny
B65: 25.5.2026 PONDĚLÍ | C65: VÝVAR S VEPŘOVÝM MASEM A RÝŽÍ | D65: 1.3 | E65: 200g- KUŘE NA PAPRICE, HOUSKOVÝ KNEDLÍK | F65: 1,3,7 | G65: VEJCE, ČOČKA NA KYSELO, OKURKA, CHLÉB | H65: 1.3
B66: 26.5.2026 ÚTERÝ | C66: VÝVAR S DROŽĎOVÝMI KNEDLÍČKY | D66: 1,3,7,9 | E66: 100g- VRABEC, ČERVENÉ ZELÍ, BRAMBOROVÝ KNEDLÍK | F66: 1,3,7 | G66: 360g-NUDLE S TVAROHEM, KOMPOT | H66: 1,3,7
B67: 27.5.2026 STŘEDA | C67: CELEROVÁ S OPRAŽENOU HOUSKOU | D67: 1,3,7,9 | E67: 100g- KAPUSTOVÝ KARBANÁTEK, BRAMBOROVÁ KAŠE, OBLOHA | F67: 1,3,7 | G67: 200g - KUŘECÍ PALIČKY NA HOŘČICI, OPEČENÉ BRAMBORY | H67: 1,3,7
B68: 28.5.2026 ČTVRTEK | C68: KRUPICOVÁ | D68: 1,3,9 | E68: 100g- SVRATECKÝ GULÁŠ, TĚSTOVINY | F68: 1.3 | G68: 270g - BULGUR RIZOTO S VEPŘOVÝM MASEM SYPANÉ SÝREM, ZELENINOVÝ SALÁT | H68: 1.7
B69: 29.5.2026 PÁTEK | C69: ZELNÁ S PÁRKEM | D69: 1.7 | E69: 100g- KUŘECÍ ROLÁDA, BRAMBORY S PAŽITKOU | F69: 1.7 | G69: 300g - JABLEČNÝ ZÁVIN | H69: 1,3,7
B70: 30.5.2026 SOBOTA | C70: HOVĚZÍ S NUDLEMI | D70: 1.3 | E70: 100g- HOVĚZÍ PEČENĚ NA SLANINĚ, HOUSKOVÝ KNEDLÍK | F70: 1.3
B71: 31.5.2026 NEDĚLE | C71: FAZOLOVÁ | D71: 1 | E71: 100g- PRAŽSKÝ FLAMENDR, VAŘENÉ BRAMBORY | F71: 1
B72: OBĚD JE URČEN K OKAMŽITÉ SPOTŘEBĚ | G72: váha masa je v syrovém stavu
B73: Změna vyhrazena
B74: Přejeme dobrou chuť.

Sheet PO-PÁ
B6: ='PO-NE'!B2 -> Jídelní lístek na dobu od 1.5. do 7.5.2023
B7: Datum | C7: ='PO-NE'!C3 -> Polévka | D7: ='PO-NE'!D3 -> obsahuje alergeny | E7: ='PO-NE'!E3 -> Oběd A | F7: ='PO-NE'!F3 -> obsahuje alergeny | G7: ='PO-NE'!G3 -> Oběd B | H7: ='PO-NE'!H3 -> obsahuje alergeny
B8: ='PO-NE'!B4 -> 1.5.2023 PONDĚLÍ svátek
B9: ='PO-NE'!B5 -> 2.5.2023 ÚTERÝ | C9: ='PO-NE'!C5 -> VÝVAR SE ZELENINOU A NUDLEMI | D9: ='PO-NE'!D5 -> 1.3 | E9: ='PO-NE'!E5 -> 100g -VEPŘOVÁ PEČENĚ, KAPUSTA, BRAMBOROVÝ KNEDLÍK | F9: ='PO-NE'!F5 -> 1.3 | G9: ='PO-NE'!G5 -> 100g - VEPŘOVÉ NUDLIČKY NA ZELENINĚ, BULGUR | H9: ='PO-NE'!H5 -> 1
B10: ='PO-NE'!B6 -> 3.5.2023 STŘEDA | C10: ='PO-NE'!C6 -> VÝVAR S DROŽĎOVÝMI KNEDLÍČKY | D10: ='PO-NE'!D6 -> 1,3,7 | E10: ='PO-NE'!E6 -> 100g - PŘÍRODNÍ KARBANÁTEK, ŠŤOUCHANÉ BRAMBORY, ZELENINOVÝ SALÁT | F10: ='PO-NE'!F6 -> 1 | G10: ='PO-NE'!G6 -> 300g - TEPLÝ TĚSTOVINOVÝ SALÁT S KUŘECÍM MASEM | H10: ='PO-NE'!H6 -> 1,3,7
B11: ='PO-NE'!B7 -> 4.5.2023 ČTVRTEK | C11: ='PO-NE'!C7 -> KMÍNOVÁ | D11: ='PO-NE'!D7 -> 1.3 | E11: ='PO-NE'!E7 -> 100g- KÝTA NA SMETANĚ, HOUSKOVÝ KNEDLÍK | F11: ='PO-NE'!F7 -> 1,3,7,9 | G11: ='PO-NE'!G7 -> 300g - LASAGNE S MLETÝM MASEM | H11: ='PO-NE'!H7 -> 1,3,7
B12: ='PO-NE'!B8 -> 5.5.2023 PÁTEK | C12: ='PO-NE'!C8 -> ZELNÁ S PÁRKEM | D12: ='PO-NE'!D8 -> 1.7 | E12: ='PO-NE'!E8 -> 300g-KUŘECÍ MASO V TĚSTÍČKU, BRAMBOROVÁ KAŠE, ZELENINA | F12: ='PO-NE'!F8 -> 1,3,7 | G12: ='PO-NE'!G8 -> 360g- RÝŽOVÁ KAŠE SYPANÁ KAKAEM, KOMPOT | H12: ='PO-NE'!H8 -> 7
B13: OBĚD JE URČEN K OKAMŽITÉ SPOTŘEBĚ | G13: váha masa je v syrovém stavu
B14: Změna vyhrazena
B15: Přejeme dobrou chuť.
B20: ='PO-NE'!B16:G16 -> Jídelní lístek na dobu od 4.5. do 10.5. 2026
B21: Datum | C21: Polévka | D21: ='PO-NE'!D18 -> obsahuje alergeny | E21: Oběd A | F21: ='PO-NE'!F18 -> obsahuje alergeny | G21: Oběd B | H21: ='PO-NE'!H18 -> obsahuje alergeny
B22: ='PO-NE'!B19 -> 4.5.2026 PONDĚLÍ | C22: ='PO-NE'!C19 -> HOVĚZÍ S TĚSTOVINOU | D22: ='PO-NE'!D19 -> 1.3 | E22: ='PO-NE'!E19 -> HOVĚZÍ VAŘENÉ, RAJSKÁ OMÁČKA, HOUSKOVÝ KNEDLÍK | F22: ='PO-NE'!F19 -> 1,3,7 | G22: ='PO-NE'!G19 -> 100g- ZELENINOVÝ KUSKUS S GYROS KOSTKAMI Z VEPŘOVÉHO MASA | H22: ='PO-NE'!H19 -> 1.9
B23: ='PO-NE'!B20 -> 5.5.2026 ÚTERÝ | C23: ='PO-NE'!C20 -> ZELENINOVÁ | D23: ='PO-NE'!D20 -> 1,7,9 | E23: ='PO-NE'!E20 -> 100g- ŠTĚPÁNSKÁ HOVĚZÍ PEČENĚ, RÝŽE | F23: ='PO-NE'!F20 -> 1.3 | G23: ='PO-NE'!G20 -> 300g- BRAMBOROVÉ ŠIŠKY S OSMAŽENOU STROUHANKOU, KOMPOT | H23: ='PO-NE'!H20 -> 1,3,7
B24: ='PO-NE'!B21 -> 6.5.2026 STŘEDA | C24: ='PO-NE'!C21 -> GULÁŠOVÁ | D24: ='PO-NE'!D21 -> 1 | E24: ='PO-NE'!E21 -> 100g- SMAŽENÝ KUŘECÍ ŘÍZEK, ŠŤOUCHANÉ BRAMBORY, ZELENINOVÝ SALÁT | F24: ='PO-NE'!F21 -> 1,3,7 | G24: ='PO-NE'!G21 -> 120g - TRESKA NA MÁSLE, BRAMBOROVÁ KAŠE, ZELENINA | H24: ='PO-NE'!H21 -> 4.7
B25: ='PO-NE'!B22 -> 7.5.2026 ČTVRTEK | C25: ='PO-NE'!C22 -> KMÍNOVÁ | D25: ='PO-NE'!D22 -> 1.3 | E25: ='PO-NE'!E22 -> 300g- KYNUTÉ KNEDLÍKY S POVIDLÍM SYPANÉ TVAROHEM | F25: ='PO-NE'!F22 -> 1,3,7 | G25: ='PO-NE'!G22 -> 100g - ZBOJNICKÁ PEČÍNKA (vepř. kýta, játra, klobása, slanina), RÝŽE | H25: ='PO-NE'!H22 -> 1
B26: ='PO-NE'!B23 -> 8.5.2026 PÁTEK SVÁTEK | C26: ='PO-NE'!C23 -> ŠPENÁTOVÁ | D26: ='PO-NE'!D23 -> 1,3,7 | E26: ='PO-NE'!E23 -> 280g- ŠUNKOFLEKY, ČALAMÁDA | F26: ='PO-NE'!F23 -> 1,3,7 | G26: ='PO-NE'!G23 -> 0 | H26: ='PO-NE'!H23 -> 0
B27: OBĚD JE URČEN K OKAMŽITÉ SPOTŘEBĚ | G27: váha masa je v syrovém stavu
B28: Změna vyhrazena
B29: Přejeme dobrou chuť.
B34: ='PO-NE'!B31 -> Jídelní lístek na dobu od 11.5. do 17.5.2026
B36: Datum | C36: Polévka | D36: ='PO-NE'!D33 -> obsahuje alergeny | E36: Oběd A | F36: ='PO-NE'!F33 -> obsahuje alergeny | G36: Oběd B | H36: ='PO-NE'!H33 -> obsahuje alergeny
B37: ='PO-NE'!B34 -> 11.5.2026 PONDĚLÍ | C37: ='PO-NE'!C34 -> VEPŘOVÝ VÝVAR S KAPÁNÍM | D37: ='PO-NE'!D34 -> 1,3,9 | E37: ='PO-NE'!E34 -> 100g- VEPŘOVÁ DEBRECÍNSKÁ PEČENĚ, HOUSKOVÝ KNEDLÍK | F37: ='PO-NE'!F34 -> 1,3,7 | G37: ='PO-NE'!G34 -> 270 g - RIZOTO S KUŘECÍM MASEM SYPANÉ SÝREM, ZELENINOVÝ SALÁT | H37: ='PO-NE'!H34 -> 7
B38: ='PO-NE'!B35 -> 12.5.2026 ÚTERÝ | C38: ='PO-NE'!C35 -> BRAMBORAČKA | D38: ='PO-NE'!D35 -> 1.9 | E38: ='PO-NE'!E35 -> 250g- BRAMBOROVÉ KNEDLÍKY PLNĚNÉ UZENÝM MASEM, DUŠENÉ ZELÍ | F38: ='PO-NE'!F35 -> 1,3,7 | G38: ='PO-NE'!G35 -> 300g - JÁHLOVÁ KAŠE S JAHODAMI, SYPANÁ PERNÍKEM | H38: ='PO-NE'!H35 -> 1,3,7
B39: ='PO-NE'!B36 -> 13.5.2026 STŘEDA | C39: ='PO-NE'!C36 -> KNEDLÍČKOVÁ | D39: ='PO-NE'!D36 -> 1,3,9 | E39: ='PO-NE'!E36 -> 100g - VEPŘOVÁ KOTLETA PEČENÁ VE ŠLEHAČCE, BRAMBORY S PAŽITKOU | F39: ='PO-NE'!F36 -> 7 | G39: ='PO-NE'!G36 -> 300g- LASAGNE SE ŠPENÁTEM | H39: ='PO-NE'!H36 -> 1,3,7
B40: ='PO-NE'!B37 -> 14.5.2026 ČTVRTEK | C40: ='PO-NE'!C37 -> RAGÚ | D40: ='PO-NE'!D37 -> 1.9 | E40: ='PO-NE'!E37 -> 100g -ŠPANĚLSKÝ PTÁČEK, RÝŽE | F40: ='PO-NE'!F37 -> 1.3 | G40: ='PO-NE'!G37 -> 200g-SMAŽENÝ KVĚTÁK, BRAMBORY, TATARSKÁ OMÁČKA | H40: ='PO-NE'!H37 -> 1,3,7,9
B41: ='PO-NE'!B38 -> 15.5.2026 PÁTEK | C41: ='PO-NE'!C38 -> HOVĚZÍ S DROBENÍM | D41: ='PO-NE'!D38 -> 1,3,9 | E41: ='PO-NE'!E38 -> 100g- SEGEDÍNSKÝ GULÁŠ, HOUSKOVÝ KNEDLÍK | F41: ='PO-NE'!F38 -> 1,3,7 | G41: ='PO-NE'!G38 -> 300g - BRAMBOROVÉ TAŠTIČKY S POVIDLÍM SYPANÉ STROUHANKOU | H41: ='PO-NE'!H38 -> 1,3,7
B42: OBĚD JE URČEN K OKAMŽITÉ SPOTŘEBĚ | G42: váha masa je v syrovém stavu
B43: Změna vyhrazena
B44: Přejeme dobrou chuť.
E50: ='PO-NE'!E46 -> Jídelní lístek na dobu od 18.5. do 24.5. 2026
B52: ='PO-NE'!B48 -> Datum | C52: ='PO-NE'!C48 -> Polévka | D52: ='PO-NE'!D48 -> obsahuje alergeny | E52: Oběd A | F52: obsahuje alergeny | G52: Oběd B | H52: obsahuje alergeny
B53: ='PO-NE'!B49 -> 18.5.2026 PONDĚLÍ | C53: ='PO-NE'!C49 -> UZENÁ S RÝŽÍ A ZELENINOU | D53: ='PO-NE'!D49 -> 0 | E53: ='PO-NE'!E49 -> 100g- UZENÉ MASO, KŘENOVÁ OMÁČKA, HOUSKOVÝ KNEDLÍK | F53: ='PO-NE'!F49 -> 1,3,7 | G53: ='PO-NE'!G49 -> 270 g - ZAPEČENÉ TĚSTOVINY S VEPŘOVÝM MASEM A ZELENINOU, OKURKA | H53: ='PO-NE'!H49 -> 1,3,7
B54: ='PO-NE'!B50 -> 19.5.2026 ÚTERÝ | C54: ='PO-NE'!C50 -> HRSTKOVÁ | D54: ='PO-NE'!D50 -> 1 | E54: ='PO-NE'!E50 -> 100g- NOVOHRADSKÝ VEPŘOVÝ PLÁTEK, BRAMBORY | F54: ='PO-NE'!F50 -> 1 | G54: ='PO-NE'!G50 -> 340g- DUKÁTOVÉ BUCHTIČKY S KRÉMEM | H54: ='PO-NE'!H50 -> 1,3,7
B55: ='PO-NE'!B51 -> 20.5.2026 STŘEDA | C55: ='PO-NE'!C51 -> PÓRKOVÁ | D55: ='PO-NE'!D51 -> 1.3 | E55: ='PO-NE'!E51 -> 100g - KUŘECÍ ŠPÍZ, ŠŤOUCHANÉ BRAMBORY | F55: ='PO-NE'!F51 -> 1,3,7 | G55: ='PO-NE'!G51 -> 250g - HOUBOVÉ RAGÚ, TĚSTOVINY | H55: ='PO-NE'!H51 -> 1,3,7
B56: ='PO-NE'!B52 -> 21.5.2026 ČTVRTEK | C56: ='PO-NE'!C52 -> KUŘECÍ VÝVAR SE ZELENINOU A NUDLEMI | D56: ='PO-NE'!D52 -> 1.3 | E56: ='PO-NE'!E52 -> 100g- OPEČENÝ GOTHAJ, HRACHOVÁ KAŠE S CIBULKOU, OKURKA, CHLÉB | F56: ='PO-NE'!F52 -> 1 | G56: ='PO-NE'!G52 -> 100g- VEPŘOVÁ PANENKA S OMÁČKOU S JARNÍMI CIBULKAMI, RÝŽE | H56: ='PO-NE'!H52 -> 1
B57: ='PO-NE'!B53 -> 22.5.2026 PÁTEK | C57: ='PO-NE'!C53 -> CHLEBOVÁ | D57: ='PO-NE'!D53 -> 1,3,9 | E57: ='PO-NE'!E53 -> 100g- HAMBURSKÁ VEPŘOVÁ KÝTA, HOUSKOVÝ KNEDLÍK | F57: ='PO-NE'!F53 -> 1,3,7,9 | G57: ='PO-NE'!G53 -> 285g - RÝŽOVÝ NÁKYP S OVOCEM | H57: ='PO-NE'!H53 -> 1,3,7
B58: OBĚD JE URČEN K OKAMŽITÉ SPOTŘEBĚ | G58: váha masa je v syrovém stavu
B59: Změna vyhrazena
B60: Přejeme dobrou chuť.
B69: ='PO-NE'!B62 -> Jídelní lístek na dobu od 25.5. do 31.5.2026
B71: Datum | C71: Polévka | D71: alergeny | E71: Oběd A | F71: alergeny | G71: Oběd B | H71: alergeny
B72: ='PO-NE'!B65 -> 25.5.2026 PONDĚLÍ | C72: ='PO-NE'!C65 -> VÝVAR S VEPŘOVÝM MASEM A RÝŽÍ | D72: ='PO-NE'!D65 -> 1.3 | E72: ='PO-NE'!E65 -> 200g- KUŘE NA PAPRICE, HOUSKOVÝ KNEDLÍK | F72: ='PO-NE'!F65 -> 1,3,7 | G72: ='PO-NE'!G65 -> VEJCE, ČOČKA NA KYSELO, OKURKA, CHLÉB | H72: ='PO-NE'!H65 -> 1.3
B73: ='PO-NE'!B66 -> 26.5.2026 ÚTERÝ | C73: ='PO-NE'!C66 -> VÝVAR S DROŽĎOVÝMI KNEDLÍČKY | D73: ='PO-NE'!D66 -> 1,3,7,9 | E73: ='PO-NE'!E66 -> 100g- VRABEC, ČERVENÉ ZELÍ, BRAMBOROVÝ KNEDLÍK | F73: ='PO-NE'!F66 -> 1,3,7 | G73: ='PO-NE'!G66 -> 360g-NUDLE S TVAROHEM, KOMPOT | H73: ='PO-NE'!H66 -> 1,3,7
B74: ='PO-NE'!B67 -> 27.5.2026 STŘEDA | C74: ='PO-NE'!C67 -> CELEROVÁ S OPRAŽENOU HOUSKOU | D74: ='PO-NE'!D67 -> 1,3,7,9 | E74: ='PO-NE'!E67 -> 100g- KAPUSTOVÝ KARBANÁTEK, BRAMBOROVÁ KAŠE, OBLOHA | F74: ='PO-NE'!F67 -> 1,3,7 | G74: ='PO-NE'!G67 -> 200g - KUŘECÍ PALIČKY NA HOŘČICI, OPEČENÉ BRAMBORY | H74: ='PO-NE'!H67 -> 1,3,7
B75: ='PO-NE'!B68 -> 28.5.2026 ČTVRTEK | C75: ='PO-NE'!C68 -> KRUPICOVÁ | D75: ='PO-NE'!D68 -> 1,3,9 | E75: ='PO-NE'!E68 -> 100g- SVRATECKÝ GULÁŠ, TĚSTOVINY | F75: ='PO-NE'!F68 -> 1.3 | G75: ='PO-NE'!G68 -> 270g - BULGUR RIZOTO S VEPŘOVÝM MASEM SYPANÉ SÝREM, ZELENINOVÝ SALÁT | H75: ='PO-NE'!H68 -> 1.7
B76: ='PO-NE'!B69 -> 29.5.2026 PÁTEK | C76: ='PO-NE'!C69 -> ZELNÁ S PÁRKEM | D76: ='PO-NE'!D69 -> 1.7 | E76: ='PO-NE'!E69 -> 100g- KUŘECÍ ROLÁDA, BRAMBORY S PAŽITKOU | F76: ='PO-NE'!F69 -> 1.7 | G76: ='PO-NE'!G69 -> 300g - JABLEČNÝ ZÁVIN | H76: ='PO-NE'!H69 -> 1,3,7
B77: OBĚD JE URČEN K OKAMŽITÉ SPOTŘEBĚ | G77: váha masa je v syrovém stavu
B78: Změna vyhrazena
B79: Přejeme dobrou chuť.

Sheet STAC.
B6: ='PO-NE'!B2 -> Jídelní lístek na dobu od 1.5. do 7.5.2023
B7: Datum | C7: ='PO-NE'!C3 -> Polévka | D7: ='PO-NE'!D3 -> obsahuje alergeny | E7: ='PO-NE'!E3 -> Oběd A | F7: ='PO-NE'!F3 -> obsahuje alergeny | G7: ='PO-NE'!G3 -> Oběd B | H7: ='PO-NE'!H3 -> obsahuje alergeny
B8: ='PO-NE'!B4 -> 1.5.2023 PONDĚLÍ svátek
B9: ='PO-NE'!B5 -> 2.5.2023 ÚTERÝ | C9: ='PO-NE'!C5 -> VÝVAR SE ZELENINOU A NUDLEMI | D9: ='PO-NE'!D5 -> 1.3 | E9: ='PO-NE'!E5 -> 100g -VEPŘOVÁ PEČENĚ, KAPUSTA, BRAMBOROVÝ KNEDLÍK | F9: ='PO-NE'!F5 -> 1.3 | G9: ='PO-NE'!G5 -> 100g - VEPŘOVÉ NUDLIČKY NA ZELENINĚ, BULGUR | H9: ='PO-NE'!H5 -> 1
B10: ='PO-NE'!B6 -> 3.5.2023 STŘEDA | C10: ='PO-NE'!C6 -> VÝVAR S DROŽĎOVÝMI KNEDLÍČKY | D10: ='PO-NE'!D6 -> 1,3,7 | E10: ='PO-NE'!E6 -> 100g - PŘÍRODNÍ KARBANÁTEK, ŠŤOUCHANÉ BRAMBORY, ZELENINOVÝ SALÁT | F10: ='PO-NE'!F6 -> 1 | G10: ='PO-NE'!G6 -> 300g - TEPLÝ TĚSTOVINOVÝ SALÁT S KUŘECÍM MASEM | H10: ='PO-NE'!H6 -> 1,3,7
B11: ='PO-NE'!B7 -> 4.5.2023 ČTVRTEK | C11: ='PO-NE'!C7 -> KMÍNOVÁ | D11: ='PO-NE'!D7 -> 1.3 | E11: ='PO-NE'!E7 -> 100g- KÝTA NA SMETANĚ, HOUSKOVÝ KNEDLÍK | F11: ='PO-NE'!F7 -> 1,3,7,9 | G11: ='PO-NE'!G7 -> 300g - LASAGNE S MLETÝM MASEM | H11: ='PO-NE'!H7 -> 1,3,7
B12: ='PO-NE'!B8 -> 5.5.2023 PÁTEK | C12: ='PO-NE'!C8 -> ZELNÁ S PÁRKEM | D12: ='PO-NE'!D8 -> 1.7 | E12: ='PO-NE'!E8 -> 300g-KUŘECÍ MASO V TĚSTÍČKU, BRAMBOROVÁ KAŠE, ZELENINA | F12: ='PO-NE'!F8 -> 1,3,7 | G12: ='PO-NE'!G8 -> 360g- RÝŽOVÁ KAŠE SYPANÁ KAKAEM, KOMPOT | H12: ='PO-NE'!H8 -> 7
B13: OBĚD JE URČEN K OKAMŽITÉ SPOTŘEBĚ | G13: váha masa je v syrovém stavu
B14: Změna vyhrazena
B15: Přejeme dobrou chuť.
B20: ='PO-NE'!B16:G16 -> Jídelní lístek na dobu od 4.5. do 10.5. 2026
B21: Datum | C21: Polévka | D21: ='PO-NE'!D18 -> obsahuje alergeny | E21: Oběd A | F21: ='PO-NE'!F18 -> obsahuje alergeny | G21: Oběd B | H21: ='PO-NE'!H18 -> obsahuje alergeny | I21: svačina 1. | J21: svačina 2.
B22: ='PO-NE'!B19 -> 4.5.2026 PONDĚLÍ | C22: ='PO-NE'!C19 -> HOVĚZÍ S TĚSTOVINOU | D22: ='PO-NE'!D19 -> 1.3 | E22: ='PO-NE'!E19 -> HOVĚZÍ VAŘENÉ, RAJSKÁ OMÁČKA, HOUSKOVÝ KNEDLÍK | F22: ='PO-NE'!F19 -> 1,3,7 | H22: ='PO-NE'!H19 -> 1.9 | I22: šunka, máslo, chléb, zelenina alergen 1,3,7 | J22: kompot
B23: ='PO-NE'!B20 -> 5.5.2026 ÚTERÝ | C23: ='PO-NE'!C20 -> ZELENINOVÁ | D23: ='PO-NE'!D20 -> 1,7,9 | E23: ='PO-NE'!E20 -> 100g- ŠTĚPÁNSKÁ HOVĚZÍ PEČENĚ, RÝŽE | F23: ='PO-NE'!F20 -> 1.3 | H23: ='PO-NE'!H20 -> 1,3,7 | I23: sýr, grah. rohlík ,zelenina alergen 1,3,7 | J23: pizza alergen 1,3,7
B24: ='PO-NE'!B21 -> 6.5.2026 STŘEDA | C24: ='PO-NE'!C21 -> GULÁŠOVÁ | D24: ='PO-NE'!D21 -> 1 | E24: ='PO-NE'!E21 -> 100g- SMAŽENÝ KUŘECÍ ŘÍZEK, ŠŤOUCHANÉ BRAMBORY, ZELENINOVÝ SALÁT | F24: ='PO-NE'!F21 -> 1,3,7 | H24: ='PO-NE'!H21 -> 4.7 | I24: džem, máslo, rohlík alergen 1,3,7 | J24: jogurt alergen 7
B25: ='PO-NE'!B22 -> 7.5.2026 ČTVRTEK | C25: ='PO-PÁ'!C25 -> KMÍNOVÁ | D25: ='PO-PÁ'!D25 -> 1.3 | E25: ='PO-PÁ'!E25 -> 300g- KYNUTÉ KNEDLÍKY S POVIDLÍM SYPANÉ TVAROHEM | F25: ='PO-PÁ'!F25 -> 1,3,7 | H25: ='PO-PÁ'!H25 -> 1 | I25: salámová pomazánka, chléb alergen 1,3,7 | J25: přesnídávka
B27: OBĚD JE URČEN K OKAMŽITÉ SPOTŘEBĚ | G27: váha masa je v syrovém stavu
B28: Změna vyhrazena
B29: Přejeme dobrou chuť.
B34: ='PO-NE'!B31 -> Jídelní lístek na dobu od 11.5. do 17.5.2026
B36: Datum | C36: Polévka | D36: ='PO-NE'!D33 -> obsahuje alergeny | E36: Oběd A | F36: ='PO-NE'!F33 -> obsahuje alergeny | G36: Oběd B | H36: ='PO-NE'!H33 -> obsahuje alergeny | I36: svačina 1. | J36: svačina 2.
B37: ='PO-NE'!B34 -> 11.5.2026 PONDĚLÍ | C37: ='PO-NE'!C34 -> VEPŘOVÝ VÝVAR S KAPÁNÍM | D37: ='PO-NE'!D34 -> 1,3,9 | F37: ='PO-NE'!F34 -> 1,3,7 | G37: ='PO-NE'!G34 -> 270 g - RIZOTO S KUŘECÍM MASEM SYPANÉ SÝREM, ZELENINOVÝ SALÁT | H37: ='PO-NE'!H34 -> 7 | I37: džem, máslo, rohlík alergen 1,3,7 | J37: ovoce
B38: ='PO-NE'!B35 -> 12.5.2026 ÚTERÝ | C38: ='PO-NE'!C35 -> BRAMBORAČKA | D38: ='PO-NE'!D35 -> 1.9 | F38: ='PO-NE'!F35 -> 1,3,7 | G38: ='PO-NE'!G35 -> 300g - JÁHLOVÁ KAŠE S JAHODAMI, SYPANÁ PERNÍKEM | H38: ='PO-NE'!H35 -> 1,3,7 | I38: sýrová pomazánka, chléb alergen 1,3,7 | J38: kefír alergen 7
B39: ='PO-NE'!B36 -> 13.5.2026 STŘEDA | C39: ='PO-NE'!C36 -> KNEDLÍČKOVÁ | D39: ='PO-NE'!D36 -> 1,3,9 | E39: ='PO-NE'!E36 -> 100g - VEPŘOVÁ KOTLETA PEČENÁ VE ŠLEHAČCE, BRAMBORY S PAŽITKOU | F39: ='PO-NE'!F36 -> 7 | H39: ='PO-NE'!H36 -> 1,3,7 | I39: šunkový salám, máslo, rohlík, zelenina alergen 1,3,7 | J39: přesnídávka
B40: ='PO-NE'!B37 -> 14.5.2026 ČTVRTEK | C40: ='PO-NE'!C37 -> RAGÚ | D40: ='PO-NE'!D37 -> 1.9 | F40: ='PO-NE'!F37 -> 1.3 | G40: ='PO-NE'!G37 -> 200g-SMAŽENÝ KVĚTÁK, BRAMBORY, TATARSKÁ OMÁČKA | H40: ='PO-NE'!H37 -> 1,3,7,9 | I40: sýr, rajče, houska alergen 1,3,7 | J40: buchta alergen 1,3,7
B41: ='PO-NE'!B38 -> 15.5.2026 PÁTEK | C41: ='PO-NE'!C38 -> HOVĚZÍ S DROBENÍM | D41: ='PO-NE'!D38 -> 1,3,9 | F41: ='PO-NE'!F38 -> 1,3,7 | G41: ='PO-NE'!G38 -> 300g - BRAMBOROVÉ TAŠTIČKY S POVIDLÍM SYPANÉ STROUHANKOU | H41: ='PO-NE'!H38 -> 1,3,7 | I41: paštika, chléb alergen 1,3,7 | J41: dušená jablka
B42: 16.5.2026 SOBOTA | C42: VEPŘOVÝ VÝVAR S NUDLEMI | D42: 1.3 | E42: PŠTROSÍ VEJCE, BRAMBORY | F42: 1,3,7 | G42: PÁTEK večeře- vitamínový krém, chléb SOBOTA večeře-sýr lučina, rajče, pečivo | H42: 1,3,7 | I42: SNÍDANĚ- sard. pomazánka, pečivo, alerg. 1,3,4,7 | J42: svačina moučník alergen 1,3,7
B43: 17.5.2026 NEDĚLE | C43: KVĚTÁKOVÁ | D43: 1.7 | E43: SRBSKÉ ŽEBÍRKO, RÝŽE | F43: 1 | I43: SNÍDANĚ- závin alergen 1,3,7 | J43: svačina - jogurt alergen 7
B44: OBĚD JE URČEN K OKAMŽITÉ SPOTŘEBĚ | G44: váha masa je v syrovém stavu
B45: Změna vyhrazena
B46: Přejeme dobrou chuť.
E51: Jídelní lístek na dobu od 18.5. do 24.5. 2026
B53: ='PO-NE'!B48 -> Datum | C53: ='PO-NE'!C48 -> Polévka | D53: ='PO-NE'!D48 -> obsahuje alergeny | E53: Oběd A | F53: obsahuje alergeny | G53: Oběd B | H53: obsahuje alergeny | I53: svačina 1. | J53: svačina 2.
B54: ='PO-NE'!B49 -> 18.5.2026 PONDĚLÍ | C54: ='PO-NE'!C49 -> UZENÁ S RÝŽÍ A ZELENINOU | D54: ='PO-NE'!D49 -> 0 | F54: ='PO-NE'!F49 -> 1,3,7 | G54: ='PO-NE'!G49 -> 270 g - ZAPEČENÉ TĚSTOVINY S VEPŘOVÝM MASEM A ZELENINOU, OKURKA | H54: ='PO-NE'!H49 -> 1,3,7 | I54: džem,máslo, rohlík alergen 1,3,7 | J54: moučník alergen 1,3,7
B55: ='PO-NE'!B50 -> 19.5.2026 ÚTERÝ | C55: ='PO-NE'!C50 -> HRSTKOVÁ | D55: ='PO-NE'!D50 -> 1 | F55: ='PO-NE'!F50 -> 1 | G55: ='PO-NE'!G50 -> 340g- DUKÁTOVÉ BUCHTIČKY S KRÉMEM | H55: ='PO-NE'!H50 -> 1,3,7 | I55: pomaz. máslo, chléb , zelenina alergen 1,3,7 | J55: ovocný salát
B56: ='PO-NE'!B51 -> 20.5.2026 STŘEDA | C56: ='PO-NE'!C51 -> PÓRKOVÁ | D56: ='PO-NE'!D51 -> 1.3 | E56: ='PO-NE'!E51 -> 100g - KUŘECÍ ŠPÍZ, ŠŤOUCHANÉ BRAMBORY | F56: ='PO-NE'!F51 -> 1,3,7 | H56: ='PO-NE'!H51 -> 1,3,7 | I56: uzená plec, zelenina,chléb alergen 1,3,7 | J56: přesnídávka
B57: ='PO-NE'!B52 -> 21.5.2026 ČTVRTEK | C57: ='PO-NE'!C52 -> KUŘECÍ VÝVAR SE ZELENINOU A NUDLEMI | D57: ='PO-NE'!D52 -> 1.3 | F57: ='PO-NE'!F52 -> 1 | G57: ='PO-NE'!G52 -> 100g- VEPŘOVÁ PANENKA S OMÁČKOU S JARNÍMI CIBULKAMI, RÝŽE | H57: ='PO-NE'!H52 -> 1 | I57: sýr , máslo, zelenina, houska alergen 1,3,7 | J57: perník alergen 1,3,7
B58: ='PO-NE'!B53 -> 22.5.2026 PÁTEK | C58: ='PO-NE'!C53 -> CHLEBOVÁ | D58: ='PO-NE'!D53 -> 1,3,9 | F58: ='PO-NE'!F53 -> 1,3,7,9 | G58: ='PO-NE'!G53 -> 285g - RÝŽOVÝ NÁKYP S OVOCEM | H58: ='PO-NE'!H53 -> 1,3,7 | I58: vajíčková pomazánka, chléb alergen 1,3, 7 | J58: jogurt
B59: OBĚD JE URČEN K OKAMŽITÉ SPOTŘEBĚ | G59: váha masa je v syrovém stavu
B60: Změna vyhrazena
B61: Přejeme dobrou chuť.
B70: ='PO-NE'!B62 -> Jídelní lístek na dobu od 25.5. do 31.5.2026
B72: Datum | C72: Polévka | D72: alergeny | E72: Oběd A | F72: alergeny | G72: Oběd B | H72: alergeny | I72: svačina 1. | J72: svačina 2.
B73: ='PO-NE'!B65 -> 25.5.2026 PONDĚLÍ | C73: ='PO-NE'!C65 -> VÝVAR S VEPŘOVÝM MASEM A RÝŽÍ | D73: ='PO-NE'!D65 -> 1.3 | E73: ='PO-NE'!E65 -> 200g- KUŘE NA PAPRICE, HOUSKOVÝ KNEDLÍK | F73: 1,3,7 | H73: 1,3, 10 | I73: budapešťský krém, rohlík alergen 1,7 | J73: palačinka alergen 1,3,7
B74: ='PO-NE'!B66 -> 26.5.2026 ÚTERÝ | C74: ='PO-NE'!C66 -> VÝVAR S DROŽĎOVÝMI KNEDLÍČKY | D74: ='PO-NE'!D66 -> 1,3,7,9 | E74: ='PO-NE'!E66 -> 100g- VRABEC, ČERVENÉ ZELÍ, BRAMBOROVÝ KNEDLÍK | F74: ='PO-NE'!F66 -> 1,3,7 | H74: ='PO-NE'!H66 -> 1,3,7 | I74: ředkvičková pomazánka, chléb alergen 1,3,4,7 | J74: přesnídávka
B75: ='PO-NE'!B67 -> 27.5.2026 STŘEDA | C75: ='PO-NE'!C67 -> CELEROVÁ S OPRAŽENOU HOUSKOU | D75: ='PO-NE'!D67 -> 1,3,7,9 | E75: ='PO-NE'!E67 -> 100g- KAPUSTOVÝ KARBANÁTEK, BRAMBOROVÁ KAŠE, OBLOHA | F75: ='PO-NE'!F67 -> 1,3,7 | H75: ='PO-NE'!H67 -> 1,3,7 | I75: loupák, máslo alergen 1,3,7 | J75: šlehaný tvaroh alergen 7
B76: ='PO-NE'!B68 -> 28.5.2026 ČTVRTEK | C76: ='PO-NE'!C68 -> KRUPICOVÁ | D76: 1,3,9 | F76: ='PO-NE'!F68 -> 1.3 | G76: ='PO-NE'!G68 -> 270g - BULGUR RIZOTO S VEPŘOVÝM MASEM SYPANÉ SÝREM, ZELENINOVÝ SALÁT | H76: ='PO-NE'!H68 -> 1.7 | I76: šunková pěna, houska alergen 1,3,7 | J76: puding alergen 1,7
B77: ='PO-NE'!B69 -> 29.5.2026 PÁTEK | C77: ='PO-NE'!C69 -> ZELNÁ S PÁRKEM | D77: ='PO-NE'!D69 -> 1.7 | E77: ='PO-NE'!E69 -> 100g- KUŘECÍ ROLÁDA, BRAMBORY S PAŽITKOU | F77: ='PO-NE'!F69 -> 1.7 | H77: ='PO-NE'!H69 -> 1,3,7 | I77: vejce, máslo, chléb alergen 1,3,7 | J77: jogurt alergen 7
B78: OBĚD JE URČEN K OKAMŽITÉ SPOTŘEBĚ | G78: váha masa je v syrovém stavu
B79: Změna vyhrazena
B80: Přejeme dobrou chuť.

Sheet Hamry n.S.
B5: ='PO-NE'!B2 -> Jídelní lístek na dobu od 1.5. do 7.5.2023
B6: Datum | C6: ='PO-NE'!C3 -> Polévka | D6: ='PO-NE'!D3 -> obsahuje alergeny | E6: ='PO-NE'!E3 -> Oběd A | F6: ='PO-NE'!F3 -> obsahuje alergeny | G6: ='PO-NE'!G3 -> Oběd B | H6: ='PO-NE'!H3 -> obsahuje alergeny
B7: ='PO-NE'!B4 -> 1.5.2023 PONDĚLÍ svátek | C7: ='PO-NE'!C4 -> FAZOLOVÁ | D7: ='PO-NE'!D4 -> 1 | E7: ='PO-NE'!E4 -> 200g - PEČENÉ KUŘE, RÝŽE | F7: ='PO-NE'!F4 -> 1.7 | G7: ='PO-NE'!G4 -> 0 | H7: ='PO-NE'!H4 -> 0
B8: ='PO-NE'!B5 -> 2.5.2023 ÚTERÝ | C8: ='PO-NE'!C5 -> VÝVAR SE ZELENINOU A NUDLEMI | D8: ='PO-NE'!D5 -> 1.3 | E8: ='PO-NE'!E5 -> 100g -VEPŘOVÁ PEČENĚ, KAPUSTA, BRAMBOROVÝ KNEDLÍK | F8: ='PO-NE'!F5 -> 1.3 | G8: ='PO-NE'!G5 -> 100g - VEPŘOVÉ NUDLIČKY NA ZELENINĚ, BULGUR | H8: ='PO-NE'!H5 -> 1
B9: ='PO-NE'!B6 -> 3.5.2023 STŘEDA | C9: ='PO-NE'!C6 -> VÝVAR S DROŽĎOVÝMI KNEDLÍČKY | D9: ='PO-NE'!D6 -> 1,3,7 | E9: ='PO-NE'!E6 -> 100g - PŘÍRODNÍ KARBANÁTEK, ŠŤOUCHANÉ BRAMBORY, ZELENINOVÝ SALÁT | F9: ='PO-NE'!F6 -> 1 | G9: ='PO-NE'!G6 -> 300g - TEPLÝ TĚSTOVINOVÝ SALÁT S KUŘECÍM MASEM | H9: ='PO-NE'!H6 -> 1,3,7
B10: ='PO-NE'!B7 -> 4.5.2023 ČTVRTEK | C10: ='PO-NE'!C7 -> KMÍNOVÁ | D10: ='PO-NE'!D7 -> 1.3 | E10: ='PO-NE'!E7 -> 100g- KÝTA NA SMETANĚ, HOUSKOVÝ KNEDLÍK | F10: ='PO-NE'!F7 -> 1,3,7,9 | G10: ='PO-NE'!G7 -> 300g - LASAGNE S MLETÝM MASEM | H10: ='PO-NE'!H7 -> 1,3,7
B11: ='PO-NE'!B8 -> 5.5.2023 PÁTEK | C11: Hrachová s opraženou houskou | D11: 1 | E11: 300g-Zapečené brambory s masem, zeleninou a sýrem, zeleninový salát | F11: 3.7 | G11: 120g - Smažené filé v bylinkové krustě, brambory, zeleninový salát | H11: 1,3,4,7
B12: OBĚD JE URČEN K OKAMŽITÉ SPOTŘEBĚ | G12: váha masa je v syrovém stavu
B13: Změna vyhrazena
B14: Přejeme dobrou chuť.
B19: ='PO-NE'!B16 -> Jídelní lístek na dobu od 4.5. do 10.5. 2026
B20: Datum | C20: Polévka | D20: ='PO-NE'!D18 -> obsahuje alergeny | E20: Oběd A | F20: ='PO-NE'!F18 -> obsahuje alergeny | G20: Oběd B | H20: ='PO-NE'!H18 -> obsahuje alergeny
B21: ='PO-NE'!B19 -> 4.5.2026 PONDĚLÍ | C21: ='PO-NE'!C19 -> HOVĚZÍ S TĚSTOVINOU | D21: ='PO-NE'!D19 -> 1.3 | E21: ='PO-NE'!E19 -> HOVĚZÍ VAŘENÉ, RAJSKÁ OMÁČKA, HOUSKOVÝ KNEDLÍK | F21: ='PO-NE'!F19 -> 1,3,7 | G21: ='PO-NE'!G19 -> 100g- ZELENINOVÝ KUSKUS S GYROS KOSTKAMI Z VEPŘOVÉHO MASA | H21: ='PO-NE'!H19 -> 1.9
B22: ='PO-NE'!B20 -> 5.5.2026 ÚTERÝ | C22: ='PO-NE'!C20 -> ZELENINOVÁ | D22: ='PO-NE'!D20 -> 1,7,9 | E22: ='PO-NE'!E20 -> 100g- ŠTĚPÁNSKÁ HOVĚZÍ PEČENĚ, RÝŽE | F22: ='PO-NE'!F20 -> 1.3 | G22: ='PO-NE'!G20 -> 300g- BRAMBOROVÉ ŠIŠKY S OSMAŽENOU STROUHANKOU, KOMPOT | H22: ='PO-NE'!H20 -> 1,3,7
B23: ='PO-NE'!B21 -> 6.5.2026 STŘEDA | C23: ='PO-NE'!C21 -> GULÁŠOVÁ | D23: ='PO-NE'!D21 -> 1 | E23: ='PO-NE'!E21 -> 100g- SMAŽENÝ KUŘECÍ ŘÍZEK, ŠŤOUCHANÉ BRAMBORY, ZELENINOVÝ SALÁT | F23: ='PO-NE'!F21 -> 1,3,7 | G23: ='PO-NE'!G21 -> 120g - TRESKA NA MÁSLE, BRAMBOROVÁ KAŠE, ZELENINA | H23: ='PO-NE'!H21 -> 4.7
B24: ='PO-NE'!B22 -> 7.5.2026 ČTVRTEK | C24: ='PO-NE'!C22 -> KMÍNOVÁ | D24: ='PO-NE'!D22 -> 1.3 | E24: ='PO-NE'!E22 -> 300g- KYNUTÉ KNEDLÍKY S POVIDLÍM SYPANÉ TVAROHEM | F24: ='PO-NE'!F22 -> 1,3,7 | G24: ='PO-NE'!G22 -> 100g - ZBOJNICKÁ PEČÍNKA (vepř. kýta, játra, klobása, slanina), RÝŽE | H24: ='PO-NE'!H22 -> 1
B25: ='PO-NE'!B23 -> 8.5.2026 PÁTEK SVÁTEK | C25: ='PO-NE'!C23 -> ŠPENÁTOVÁ | D25: ='PO-NE'!D23 -> 1,3,7 | E25: ='PO-NE'!E23 -> 280g- ŠUNKOFLEKY, ČALAMÁDA | F25: ='PO-NE'!F23 -> 1,3,7 | G25: ='PO-NE'!G23 -> 0 | H25: ='PO-NE'!H23 -> 0
B26: OBĚD JE URČEN K OKAMŽITÉ SPOTŘEBĚ | G26: váha masa je v syrovém stavu
B27: Změna vyhrazena
B28: Přejeme dobrou chuť.
B33: ='PO-NE'!B31 -> Jídelní lístek na dobu od 11.5. do 17.5.2026
B35: Datum | C35: Polévka | D35: ='PO-NE'!D33 -> obsahuje alergeny | E35: Oběd A | F35: ='PO-NE'!F33 -> obsahuje alergeny | G35: Oběd B | H35: ='PO-NE'!H33 -> obsahuje alergeny
B36: ='PO-NE'!B34 -> 11.5.2026 PONDĚLÍ | C36: ='PO-NE'!C34 -> VEPŘOVÝ VÝVAR S KAPÁNÍM | D36: ='PO-NE'!D34 -> 1,3,9 | E36: ='PO-NE'!E34 -> 100g- VEPŘOVÁ DEBRECÍNSKÁ PEČENĚ, HOUSKOVÝ KNEDLÍK | F36: ='PO-NE'!F34 -> 1,3,7 | G36: ='PO-NE'!G34 -> 270 g - RIZOTO S KUŘECÍM MASEM SYPANÉ SÝREM, ZELENINOVÝ SALÁT | H36: ='PO-NE'!H34 -> 7
B37: ='PO-NE'!B35 -> 12.5.2026 ÚTERÝ | C37: ='PO-NE'!C35 -> BRAMBORAČKA | D37: ='PO-NE'!D35 -> 1.9 | E37: ='PO-NE'!E35 -> 250g- BRAMBOROVÉ KNEDLÍKY PLNĚNÉ UZENÝM MASEM, DUŠENÉ ZELÍ | F37: ='PO-NE'!F35 -> 1,3,7 | G37: ='PO-NE'!G35 -> 300g - JÁHLOVÁ KAŠE S JAHODAMI, SYPANÁ PERNÍKEM | H37: ='PO-NE'!H35 -> 1,3,7
B38: ='PO-NE'!B36 -> 13.5.2026 STŘEDA | C38: ='PO-NE'!C36 -> KNEDLÍČKOVÁ | D38: ='PO-NE'!D36 -> 1,3,9 | E38: ='PO-NE'!E36 -> 100g - VEPŘOVÁ KOTLETA PEČENÁ VE ŠLEHAČCE, BRAMBORY S PAŽITKOU | F38: ='PO-NE'!F36 -> 7 | G38: ='PO-NE'!G36 -> 300g- LASAGNE SE ŠPENÁTEM | H38: ='PO-NE'!H36 -> 1,3,7
B39: ='PO-NE'!B37 -> 14.5.2026 ČTVRTEK | C39: ='PO-NE'!C37 -> RAGÚ | D39: ='PO-NE'!D37 -> 1.9 | E39: ='PO-NE'!E37 -> 100g -ŠPANĚLSKÝ PTÁČEK, RÝŽE | F39: ='PO-NE'!F37 -> 1.3 | G39: ='PO-NE'!G37 -> 200g-SMAŽENÝ KVĚTÁK, BRAMBORY, TATARSKÁ OMÁČKA | H39: ='PO-NE'!H37 -> 1,3,7,9
B40: ='PO-NE'!B38 -> 15.5.2026 PÁTEK | C40: ='PO-NE'!C38 -> HOVĚZÍ S DROBENÍM | D40: ='PO-NE'!D38 -> 1,3,9 | E40: ='PO-NE'!E38 -> 100g- SEGEDÍNSKÝ GULÁŠ, HOUSKOVÝ KNEDLÍK | F40: ='PO-NE'!F38 -> 1,3,7 | G40: ='PO-NE'!G38 -> 300g - BRAMBOROVÉ TAŠTIČKY S POVIDLÍM SYPANÉ STROUHANKOU | H40: ='PO-NE'!H38 -> 1,3,7
B41: OBĚD JE URČEN K OKAMŽITÉ SPOTŘEBĚ | G41: váha masa je v syrovém stavu
B42: Změna vyhrazena
B43: Přejeme dobrou chuť.
E49: Jídelní lístek na dobu od 24.5. do 30.5. 2021
B51: ='PO-NE'!B48 -> Datum | C51: ='PO-NE'!C48 -> Polévka | D51: ='PO-NE'!D48 -> obsahuje alergeny | E51: Oběd A | F51: obsahuje alergeny | G51: Oběd B | H51: obsahuje alergeny
B52: ='PO-NE'!B49 -> 18.5.2026 PONDĚLÍ | C52: ='PO-NE'!C49 -> UZENÁ S RÝŽÍ A ZELENINOU | D52: ='PO-NE'!D49 -> 0 | E52: ='PO-NE'!E49 -> 100g- UZENÉ MASO, KŘENOVÁ OMÁČKA, HOUSKOVÝ KNEDLÍK | F52: ='PO-NE'!F49 -> 1,3,7 | G52: ='PO-NE'!G49 -> 270 g - ZAPEČENÉ TĚSTOVINY S VEPŘOVÝM MASEM A ZELENINOU, OKURKA | H52: ='PO-NE'!H49 -> 1,3,7
B53: ='PO-NE'!B50 -> 19.5.2026 ÚTERÝ | C53: ='PO-NE'!C50 -> HRSTKOVÁ | D53: ='PO-NE'!D50 -> 1 | E53: ='PO-NE'!E50 -> 100g- NOVOHRADSKÝ VEPŘOVÝ PLÁTEK, BRAMBORY | F53: ='PO-NE'!F50 -> 1 | G53: ='PO-NE'!G50 -> 340g- DUKÁTOVÉ BUCHTIČKY S KRÉMEM | H53: ='PO-NE'!H50 -> 1,3,7
B54: ='PO-NE'!B51 -> 20.5.2026 STŘEDA | C54: ='PO-NE'!C51 -> PÓRKOVÁ | D54: ='PO-NE'!D51 -> 1.3 | E54: ='PO-NE'!E51 -> 100g - KUŘECÍ ŠPÍZ, ŠŤOUCHANÉ BRAMBORY | F54: ='PO-NE'!F51 -> 1,3,7 | G54: ='PO-NE'!G51 -> 250g - HOUBOVÉ RAGÚ, TĚSTOVINY | H54: ='PO-NE'!H51 -> 1,3,7
B55: ='PO-NE'!B52 -> 21.5.2026 ČTVRTEK | C55: ='PO-NE'!C52 -> KUŘECÍ VÝVAR SE ZELENINOU A NUDLEMI | D55: ='PO-NE'!D52 -> 1.3 | E55: ='PO-NE'!E52 -> 100g- OPEČENÝ GOTHAJ, HRACHOVÁ KAŠE S CIBULKOU, OKURKA, CHLÉB | F55: ='PO-NE'!F52 -> 1 | G55: ='PO-NE'!G52 -> 100g- VEPŘOVÁ PANENKA S OMÁČKOU S JARNÍMI CIBULKAMI, RÝŽE | H55: ='PO-NE'!H52 -> 1
B56: ='PO-NE'!B53 -> 22.5.2026 PÁTEK | C56: ='PO-NE'!C53 -> CHLEBOVÁ | D56: ='PO-NE'!D53 -> 1,3,9 | E56: ='PO-NE'!E53 -> 100g- HAMBURSKÁ VEPŘOVÁ KÝTA, HOUSKOVÝ KNEDLÍK | F56: ='PO-NE'!F53 -> 1,3,7,9 | G56: ='PO-NE'!G53 -> 285g - RÝŽOVÝ NÁKYP S OVOCEM | H56: ='PO-NE'!H53 -> 1,3,7
B57: OBĚD JE URČEN K OKAMŽITÉ SPOTŘEBĚ | G57: váha masa je v syrovém stavu
B58: Změna vyhrazena
B59: Přejeme dobrou chuť.
B71: Jídelní lístek na dobu od 31.5. do 6.6.2021
B73: Datum | C73: Polévka | D73: alergeny | E73: Oběd A | F73: alergeny | G73: Oběd B | H73: alergeny
B74: 31.5.2021 PONDĚLÍ | C74: Česneková | D74: 3 | E74: 100g-Svratecký guláš, těstoviny | F74: 1.3 | G74: 340g - Vločková kaše, kompot | H74: 1.7
B75: 1.6.2021 ÚTERÝ | C75: Zeleninová | D75: 1,7,9 | E75: 100g- Vepřový plátek přírodní, dušená rýže | F75: 1 | G75: 200g - Kuře po novohradsku, vařené brambory | H75: 1.7
B76: 2.6.2021 STŘEDA | C76: Hašé | D76: 1 | E76: 100g-Smažený kapustový karbanátek, vařené brambory, zeleninový salát | F76: 1.3 | G76: 300g - Žemlovka s tvarohem a jablky | H76: 1,3,7
B77: 3.6.2021 ČTVRTEK | C77: Hovězí s nudlemi | D77: 1.3 | E77: 100g-Myslivecká pečeně, houskový knedlík | F77: 1,3,7,9 | G77: 340g - Zapečené těstoviny s hlávkovým zelím a masem, okurka | H77: 1.3
B78: 4.6.2021 PÁTEK | C78: Rajská s tarhoňou | D78: 1.3 | E78: 100g - Kuřecí maso v těstíčku, vařené brambory | F78: 1,3,7 | G78: 300g - Kynutý táč s ovocem | H78: 1,3,7
B79: OBĚD JE URČEN K OKAMŽITÉ SPOTŘEBĚ | G79: váha masa je v syrovém stavu
B80: Změna vyhrazena
B81: Přejeme dobrou chuť.
